BEGIN:VCALENDAR
VERSION:2.0
PRODID:-//ChamberMaster//Event Calendar 2.0//EN
METHOD:PUBLISH
X-PUBLISHED-TTL:P3D
REFRESH-INTERVAL:P3D
CALSCALE:GREGORIAN
BEGIN:VEVENT
DTSTART:20150120T180000Z
DTEND:20150120T190000Z
X-MICROSOFT-CDO-ALLDAYEVENT:FALSE
SUMMARY:Ameriprise Rob Harris Ribbon Cutting
DESCRIPTION:Grand Opening & Ribbon Cutting of new chamber member. Ameriprise Rob Harris.
X-ALT-DESC;FMTTYPE=text/html:Grand Opening &amp\; Ribbon Cutting of&nbsp\;new chamber member. Ameriprise Rob Harris.
LOCATION:3200 Main Street NW Suite 110 Coon Rapids\, MN 55448
UID:e.380.152141
SEQUENCE:3
DTSTAMP:20260423T144615Z
URL:http://members.metronorthchamber.org/events/details/ameriprise-rob-harris-ribbon-cutting-01-20-2015-152141
END:VEVENT

END:VCALENDAR
