BEGIN:VCALENDAR
VERSION:2.0
PRODID:-//ChamberMaster//Event Calendar 2.0//EN
METHOD:PUBLISH
X-PUBLISHED-TTL:P3D
REFRESH-INTERVAL:P3D
CALSCALE:GREGORIAN
BEGIN:VEVENT
DTSTART:20180814T210000Z
DTEND:20180814T213000Z
X-MICROSOFT-CDO-ALLDAYEVENT:FALSE
SUMMARY:Ambassador Meeting
DESCRIPTION:Prior to Q3 New Member Welcome Reception
X-ALT-DESC;FMTTYPE=text/html:Prior to Q3 New Member Welcome Reception
LOCATION:Route 47 Pub & Grub Restaurant & Bar 7820 University Ave NE Fridley\, MN 55432
UID:e.380.185790
SEQUENCE:3
DTSTAMP:20260420T170045Z
URL:http://members.metronorthchamber.org/events/details/ambassador-meeting-185790
END:VEVENT

END:VCALENDAR
