BEGIN:VCALENDAR
VERSION:2.0
PRODID:-//ChamberMaster//Event Calendar 2.0//EN
METHOD:PUBLISH
X-PUBLISHED-TTL:P3D
REFRESH-INTERVAL:P3D
CALSCALE:GREGORIAN
BEGIN:VEVENT
DTSTART:20191210T220000Z
DTEND:20191210T230000Z
X-MICROSOFT-CDO-ALLDAYEVENT:FALSE
SUMMARY:Ambassador Committee
DESCRIPTION:
X-ALT-DESC;FMTTYPE=text/html:
LOCATION:MetroNorth Chamber of Commerce 9380 Central Avenue NE\, Suite 320 Blaine 55434
UID:e.380.189756
SEQUENCE:3
DTSTAMP:20260419T142751Z
URL:http://members.metronorthchamber.org/events/details/ambassador-committee-meeting-12-10-2019-189756
END:VEVENT

END:VCALENDAR
