BEGIN:VCALENDAR
VERSION:2.0
PRODID:-//ChamberMaster//Event Calendar 2.0//EN
METHOD:PUBLISH
X-PUBLISHED-TTL:P3D
REFRESH-INTERVAL:P3D
CALSCALE:GREGORIAN
BEGIN:VEVENT
DTSTART:20160917T140000Z
DTEND:20160917T170000Z
X-MICROSOFT-CDO-ALLDAYEVENT:FALSE
SUMMARY:Alzheimer's Walk
DESCRIPTION:Join The Landmark of Fridley on Saturday\, September 17\, 2016\, in a walk to raise funds for The Alzheimer's Association.  We will meet at The Landmark of Fridley at 7:30am and travel to The Twin's Stadium for registration and opening ceremony at 9am\, followed by the walk. \n\n\n\nIf you are unable to join us in the walk\, feel free to visit the website and contribute to The Landmark of Fridley contibution page.
X-ALT-DESC;FMTTYPE=text/html:Join The Landmark of Fridley on Saturday\, September 17\, 2016\, in a walk to raise funds for The Alzheimer&#39\;s Association.&nbsp\; We will meet at The Landmark of Fridley at 7:30am and travel to The Twin&#39\;s Stadium for registration and opening ceremony at 9am\, followed by the walk.&nbsp\;<br />\n<br />\nIf you are unable to join us in the walk\, feel free to visit the website and contribute to The Landmark of Fridley contibution page.&nbsp\;
LOCATION:The Twin's Stadium
UID:e.380.169156
SEQUENCE:3
DTSTAMP:20260422T052216Z
URL:http://members.metronorthchamber.org/events/details/alzheimer-s-walk-09-17-2016-169156
END:VEVENT

END:VCALENDAR
