BEGIN:VCALENDAR
VERSION:2.0
PRODID:-//ChamberMaster//Event Calendar 2.0//EN
METHOD:PUBLISH
X-PUBLISHED-TTL:P3D
REFRESH-INTERVAL:P3D
CALSCALE:GREGORIAN
BEGIN:VEVENT
DTSTART:20120918T180000Z
DTEND:20120918T200000Z
X-MICROSOFT-CDO-ALLDAYEVENT:FALSE
SUMMARY:Alto Consulting Lunch & Learn
DESCRIPTION:Alto Consulting Lunch & Learn - afternoon session
X-ALT-DESC;FMTTYPE=text/html:Alto Consulting Lunch &amp\; Learn&nbsp\;- afternoon session
LOCATION:MetroNorth Chamber Conference Room
UID:e.380.146231
SEQUENCE:3
DTSTAMP:20260425T125321Z
URL:http://members.metronorthchamber.org/events/details/alto-consulting-lunch-learn-09-18-2012-146231
END:VEVENT

END:VCALENDAR
