BEGIN:VCALENDAR
VERSION:2.0
PRODID:-//ChamberMaster//Event Calendar 2.0//EN
METHOD:PUBLISH
X-PUBLISHED-TTL:P3D
REFRESH-INTERVAL:P3D
CALSCALE:GREGORIAN
BEGIN:VEVENT
DTSTART:20190427T233000Z
DTEND:20190428T023000Z
X-MICROSOFT-CDO-ALLDAYEVENT:FALSE
SUMMARY:ALL Boys Flipping Clinic and Pizza Party
DESCRIPTION:This clinic will teach boys basic moves on all 6 gymnastics events and they will also have pizza.
X-ALT-DESC;FMTTYPE=text/html:This clinic will teach boys basic moves on all 6 gymnastics events and they will also have pizza.
LOCATION:1460 133rd Lane NE\, Ham Lake
UID:e.380.188854
SEQUENCE:3
DTSTAMP:20260420T041648Z
URL:http://members.metronorthchamber.org/events/details/all-boys-flipping-clinic-and-pizza-party-188854
END:VEVENT

END:VCALENDAR
