BEGIN:VCALENDAR
VERSION:2.0
PRODID:-//ChamberMaster//Event Calendar 2.0//EN
METHOD:PUBLISH
X-PUBLISHED-TTL:P3D
REFRESH-INTERVAL:P3D
CALSCALE:GREGORIAN
BEGIN:VEVENT
DTSTART:20191230T230000Z
DTEND:20191231T013000Z
X-MICROSOFT-CDO-ALLDAYEVENT:FALSE
SUMMARY:All Boys Event
DESCRIPTION:This clinic will focus on teaching boys basic moves on all men's gymnastics events. \n\nParticipants will also have pizza and open gym time.
X-ALT-DESC;FMTTYPE=text/html:<p style="text-align:center"><span style="font-family:arial\,helvetica\,sans-serif"><span style="font-size:16px">This clinic will focus on teaching boys basic moves on all men&rsquo\;s gymnastics events. </span></span></p>\n\n<p style="text-align:center"><span style="font-family:arial\,helvetica\,sans-serif"><span style="font-size:16px">Participants&nbsp\;will also have pizza and open gym time.</span></span></p>\n
LOCATION:1460 133rd Lane NE\, Ham Lake
UID:e.380.191726
SEQUENCE:3
DTSTAMP:20260419T142119Z
URL:http://members.metronorthchamber.org/events/details/all-boys-event-191726
END:VEVENT

END:VCALENDAR
