BEGIN:VCALENDAR
VERSION:2.0
PRODID:-//ChamberMaster//Event Calendar 2.0//EN
METHOD:PUBLISH
X-PUBLISHED-TTL:P3D
REFRESH-INTERVAL:P3D
CALSCALE:GREGORIAN
BEGIN:VEVENT
DTSTART:20170524T000000Z
DTEND:20170524T020000Z
X-MICROSOFT-CDO-ALLDAYEVENT:FALSE
SUMMARY:All About The Art
DESCRIPTION:Are you ready to take your skincare to a whole new level?\n\nWould you love to have a custom facewash designed specifically for your unique skin?\n\nDo you need a night out for a well deserved spa experience?\n\nAs the busy modern woman we often don't take the time to stop and take care of YOU! Pamper & party with us as we share Young Living's Chemical-free ART skin care line with you! Learn more about these awesome skin care products and learn how to nourish your skin for spring (and year round)! Young Living has some pretty amazing and safe products when it comes to skin and we want you to experience their gloriousness. Pamper yourself and find out how you can use ART to release your inner glow!\nCost is $30 per person as you will be sampling the Young Living ART products and making your custom facewash!\n\nEvent address will be emailed with event reminder. Ticket Puchase Here
X-ALT-DESC;FMTTYPE=text/html:Are you ready to take your skincare to a whole new level?<br />\nWould you love to have a custom facewash designed specifically for your unique skin?<br />\nDo you need a night out for a well deserved spa experience?<br />\nAs the busy modern woman we often don&#39\;t take the time to stop and take care of YOU! Pamper &amp\; party with us as we share Young Living&#39\;s Chemical-free ART skin care line with you! Learn more about these awesome skin care products and learn how to nourish your skin for spring (and year round)! Young Living has some pretty amazing and safe products when it comes to skin and we want you to experience their gloriousness. Pamper yourself and find out how you can use ART to release your inner glow!\n<hr />Cost is $30 per person as you will be sampling the Young Living ART products and making your custom facewash!<br />\nEvent address will be emailed with event reminder. <strong><u><a href="https://www.eventbrite.com/e/all-about-the-art-tickets-33899413057">Ticket Puchase Here</a></u></strong>
LOCATION:Minneapolis Minneapolis\, MN
UID:e.380.175012
SEQUENCE:3
DTSTAMP:20260421T170452Z
URL:http://members.metronorthchamber.org/events/details/all-about-the-art-175012
END:VEVENT

END:VCALENDAR
