BEGIN:VCALENDAR
VERSION:2.0
PRODID:-//ChamberMaster//Event Calendar 2.0//EN
METHOD:PUBLISH
X-PUBLISHED-TTL:P3D
REFRESH-INTERVAL:P3D
CALSCALE:GREGORIAN
BEGIN:VEVENT
DTSTART;VALUE=DATE:20120611
DTEND;VALUE=DATE:20120612
TRANSP:TRANSPARENT
X-MICROSOFT-CDO-ALLDAYEVENT:TRUE
SUMMARY:Alexandra House 2nd Annual Charity Golf Tournament
DESCRIPTION:On Monday\, June 11 Alexandra House will host its charity golf tournament at the Tournament Players Club of the Twin Cities in Blaine. We'll have an 8:00am shotgun start featuring a 4 person scramble format\, with a lunch and raffle held immediately following the tournament. The tournament will raise necessary funds to support Alexandra House programs that serve victims of domestic and sexual violence   last year\, over $25\,000 was raised from this event!\n\n\n\nAs you know\, domestic and sexual violence are critical public health and public safety issues that impact many on our communities. With your help\, Alexandra House will be able to continue to serve our community and the 3\,000 victims of domestic and sexual violence who use our services each year. Along with providing 24-hour crisis line and emergency shelter\, hospital and legal advocacy\, and support groups\, Alexandra House partners with many local entities including: law enforcement agencies\, the Anoka County Attorney's Office\, Allina Hospitals and Clinics\, and four local school districts.\n\n\n\nWe thank you for your consideration in sponsoring this new event. If you have any questions\, please contact Amanda Vickstrom\, Development Director\, at 763-656-1363 or avickstrom@alexandrahouse.org.\n\n\n\nDiamond Sponsor- $10\,000\n\nFour golf foursomes\n\nEight additional golf lunch guests\n\nName on signage in clubhouse and greens flag\n\nLogo in program\, website & invitations\n\nRecognition from podium\n\n\n\nGold Sponsor - $5\,000\n\nThree golf foursome\n\nFour additional golf lunch guests\n\nName on signage in clubhouse and on greens flag\n\nLogo in program\, website & invitations\n\nRecognition from podium\n\n\n\nSilver Sponsor - $2\,500\n\nTwo golf foursomes\n\nTwo additional golf lunch guests\n\nLogo in program\, website and on invitations*\n\nRecognition from podium\n\n\n\nTeam Sponsor - $1\,000\n\nOne golf foursome\n\nRecognition in program\, website and at event\n\n\n\nHole or Greens Sponsor - $500\n\nHole sponsor sign or greens flag\, and display table\n\n\n\nRaffle Sponsor\n\nDonate an item for our raffle\, and\n\nreceive recognition in our program\, on website\, and\n\nduring the raffle.\n\n\n\nClick here to download a copy of the registration form. You can also submit your sponsorship online at www.alexandrahouse.org.
X-ALT-DESC;FMTTYPE=text/html:<br />\n<span style="font-size:11px\;"><span style="font-family: tahoma\;">On Monday\, June 11 Alexandra House will host its charity golf tournament at the Tournament Players Club of the Twin Cities in Blaine. We&rsquo\;ll have an 8:00am shotgun start featuring a 4 person scramble format\, with a lunch and raffle held immediately following the tournament. The tournament will raise necessary funds to support Alexandra House programs that serve victims of domestic and sexual violence &ndash\; last year\, over $25\,000 was raised from this event!<br />\n<br />\nAs you know\, domestic and sexual violence are critical public health and public safety issues that impact many on our communities. With your help\, Alexandra House will be able to continue to serve our community and the 3\,000 victims of domestic and sexual violence who use our services each year. Along with providing 24-hour crisis line and emergency shelter\, hospital and legal advocacy\, and support groups\, Alexandra House partners with many local entities including: law enforcement agencies\, the Anoka County Attorney&rsquo\;s Office\, Allina Hospitals and Clinics\, and four local school districts.<br />\n<br />\nWe thank you for your consideration in sponsoring this new event. If you have any questions\, please contact Amanda Vickstrom\, Development Director\, at 763-656-1363 or avickstrom@alexandrahouse.org.</span></span><br />\n<br />\n<span style="font-size:11px\;"><span style="font-family: tahoma\;"><strong>Diamond Sponsor- $10\,000</strong><br />\nFour golf foursomes<br />\nEight additional golf lunch guests<br />\nName on signage in clubhouse and greens flag<br />\nLogo in program\, website &amp\; invitations<br />\nRecognition from podium<br />\n<br />\n<strong>Gold Sponsor - $5\,000</strong><br />\nThree golf foursome<br />\nFour additional golf lunch guests<br />\nName on signage in clubhouse and on greens flag<br />\nLogo in program\, website &amp\; invitations<br />\nRecognition from podium<br />\n<br />\n<strong>Silver Sponsor - $2\,500</strong><br />\nTwo golf foursomes<br />\nTwo additional golf lunch guests<br />\nLogo in program\, website and on invitations*<br />\nRecognition from podium<br />\n<br />\n<strong>Team Sponsor - $1\,000</strong><br />\nOne golf foursome<br />\nRecognition in program\, website and at event<br />\n<br />\n<strong>Hole or Greens Sponsor - $500</strong><br />\nHole sponsor sign or greens flag\, and display table<br />\n<br />\n<strong>Raffle Sponsor</strong><br />\nDonate an item for our raffle\, and<br />\nreceive recognition in our program\, on website\, and<br />\nduring the raffle.</span></span><br />\n<br />\n<span style="font-size:11px\;"><span style="font-family: tahoma\;">Click <a href="http://cloud.chambermaster.com/userfiles/UserFiles/chambers/380/File/AlexandraHouse2012GolfSponsorship.pdf">here</a> to download a copy of the registration form. You can also submit your sponsorship online at <a href="http://www.alexandrahouse.org/news-events/golf-tournament">www.alexandrahouse.org</a>.</span></span>
LOCATION:Tournament Players Club\, Blaine
UID:e.380.143800
SEQUENCE:3
DTSTAMP:20260425T162118Z
URL:http://members.metronorthchamber.org/events/details/alexandra-house-2nd-annual-charity-golf-tournament-06-11-2012-143800
END:VEVENT

END:VCALENDAR
