BEGIN:VCALENDAR
VERSION:2.0
PRODID:-//ChamberMaster//Event Calendar 2.0//EN
METHOD:PUBLISH
X-PUBLISHED-TTL:P3D
REFRESH-INTERVAL:P3D
CALSCALE:GREGORIAN
BEGIN:VEVENT
DTSTART:20150429T213000Z
DTEND:20150429T230000Z
X-MICROSOFT-CDO-ALLDAYEVENT:FALSE
SUMMARY:After-Hours at the Five-Four Lounge
DESCRIPTION:Join us for an after-hours in Sammy's new Five-Four Lounge (and weather permitting\, patio!).
X-ALT-DESC;FMTTYPE=text/html:Join us for an after-hours in Sammy&#39\;s new Five-Four Lounge (and weather permitting\, patio!).
LOCATION:Sammy Perrella's Pizza 445 99th Avenue #54 Coon Rapids MN 55433 (Foley & Hwy 10\, by AMC Theatre)
UID:e.380.157291
SEQUENCE:3
DTSTAMP:20260423T095128Z
URL:http://members.metronorthchamber.org/events/details/after-hours-at-the-five-four-lounge-04-29-2015-157291
END:VEVENT

END:VCALENDAR
