BEGIN:VCALENDAR
VERSION:2.0
PRODID:-//ChamberMaster//Event Calendar 2.0//EN
METHOD:PUBLISH
X-PUBLISHED-TTL:P3D
REFRESH-INTERVAL:P3D
CALSCALE:GREGORIAN
BEGIN:VEVENT
DTSTART:20160412T123000Z
DTEND:20160412T140000Z
X-MICROSOFT-CDO-ALLDAYEVENT:FALSE
SUMMARY:Advance Directives for Professionals
DESCRIPTION:Join us for this FREE CEU event and learn more about Advance Directives for Professionals!\n\nLight breakfast will be served.
X-ALT-DESC;FMTTYPE=text/html:Join us for this FREE CEU event and learn more about Advance Directives for Professionals!<br />\nLight breakfast will be served.
LOCATION:3715 Coon Rapids Blvd NW
UID:e.380.167372
SEQUENCE:3
DTSTAMP:20260422T132953Z
URL:http://members.metronorthchamber.org/events/details/advance-directives-for-professionals-04-12-2016-167372
END:VEVENT

END:VCALENDAR
