BEGIN:VCALENDAR
VERSION:2.0
PRODID:-//ChamberMaster//Event Calendar 2.0//EN
METHOD:PUBLISH
X-PUBLISHED-TTL:P3D
REFRESH-INTERVAL:P3D
CALSCALE:GREGORIAN
BEGIN:VEVENT
DTSTART:20161025T210000Z
DTEND:20161025T220000Z
X-MICROSOFT-CDO-ALLDAYEVENT:FALSE
SUMMARY:ACHS ribbon cutting/ghost tour
DESCRIPTION:Help celebrate this ribbon cutting for the Anoka County Historical Society. It will be followed by a 20-minute optional walking 'ghost tour' of Anoka\, ending in a local (chamber member) restaurant.\n\n\n\nGhost Tour!\n\nStories abound in Anoka of odd happenings and eerie encounters. There is a house where the rocking chair rocks with no one sitting in it. A business in town has employees who won't enter parts of the building because of the woman seen only in a mirror. There are doors that lock themselves\, displays that change on their own\, cold drafts ..might they all speak of things unexplained?\n\nOur costumed tour guides will take you on a walk through historic neighborhoods of Anoka. You'll view (from the outside) homes and businesses that have been privy to some unexplained events\, while your guide shares real stories that have been brought to the Anoka County Historical Society by the people who live and work in these buildings. Sixty percent history\, forty percent folklore\; these stories are just part of the fun you will experience on your Ghosts of Anoka tour.
X-ALT-DESC;FMTTYPE=text/html:Help celebrate this ribbon cutting for the Anoka County Historical Society. It will be followed by a 20-minute optional walking &lsquo\;ghost tour&rsquo\; of Anoka\, ending in a local (chamber member) restaurant.<br />\n<br />\n<strong>Ghost Tour!</strong><br />\n<span style="color:#121212\;"><span style="font-family:tahoma\,sans-serif\;"><span style="font-size:10.0pt\;">Stories abound in Anoka of odd happenings and eerie encounters. There is a house where the rocking chair rocks with no one sitting in it. A business in town has employees who won&rsquo\;t enter parts of the building because of the woman seen only in a mirror. There are doors that lock themselves\, displays that change on their own\, cold drafts&hellip\;..might they all speak of things unexplained?</span></span></span><br />\n<span style="color:#121212\;"><span style="font-family:tahoma\,sans-serif\;"><span style="font-size:10.0pt\;">Our costumed tour guides will take you on a walk through historic neighborhoods of Anoka. You&rsquo\;ll view (from the outside) homes and businesses that have been privy to some unexplained events\, while your guide shares real stories that have been brought to the Anoka County Historical Society by the people who live and work in these buildings. Sixty percent history\, forty percent folklore\; these stories are just part of the fun you will experience on your Ghosts of Anoka tour.</span></span></span><br />\n&nbsp\;
LOCATION:2135 3rd Avenue North Anoka\, MN 55303
UID:e.380.169326
SEQUENCE:3
DTSTAMP:20260422T033318Z
URL:http://members.metronorthchamber.org/events/details/achs-ribbon-cutting-ghost-tour-169326
END:VEVENT

END:VCALENDAR
