BEGIN:VCALENDAR
VERSION:2.0
PRODID:-//ChamberMaster//Event Calendar 2.0//EN
METHOD:PUBLISH
X-PUBLISHED-TTL:P3D
REFRESH-INTERVAL:P3D
CALSCALE:GREGORIAN
BEGIN:VEVENT
DTSTART:20140604T220000Z
DTEND:20140605T000000Z
X-MICROSOFT-CDO-ALLDAYEVENT:FALSE
SUMMARY:Achieve Services 50th Anniversary Celebration!
DESCRIPTION:JOIN US FOR A FULL DAY OF CELEBRATION!\n\n11:00am to 1:00pm   Open House at Achieve\n\n\n	Join us at Achieve Services for a tour and an opportunity to meet staff and participants.\n	Learn more about Achieve's history with 50th Anniversary displays.\n	View and purchase artwork by Achieve participants.\n	Find out about Achieve's plans for the future including our exciting laundry detergent business!\n	Enjoy complimentary refreshments.\n	WHERE: Achieve Services\, Inc.\, 1201 89th Ave. NE\, Blaine\, MN 55434 (Map)\n\n\n12:00pm   Ribbon Cutting\n\n\n	The MetroNorth Chamber of Commerce will be doing a ribbon cutting to commemorate Achieve's 50-Years of Service.\n	Come to Achieve at noon and you can be a part of the picture.\n	WHERE: Achieve Services\, Inc.\, 1201 89th Ave. NE\, Blaine\, MN 55434 (Map)\n\n\n5:00pm to 7:00pm   Anniversary Party!\n\n\n	Come to Brunswick Zone XL in Blaine for an evening celebration!\n	There will be unlimited bowling\, laser tag\, arcade games\, and appetizers.\n	See a display about Achieve Detergent and be among the first to get your name on the pre-order list.\n	All ages and abilities are welcome!\n	There is a $10.00 suggested donation per person to help us cover costs of the event.\n	WHERE: Brunswick Zone XL\, 11351 Ulysses St. NE\, Blaine\, MN 55434 (Map)\n\n\nSUPPORT OUR $50 FOR 50 CAMPAIGN!\n\nIn celebration of Achieve's 50th Anniversary\, we are encouraging our supporters to donate $50.00 and share a message of support on our website. Our goal is to have 1\,000 people contribute by the end of the year to send the message that the services Achieve provides are meaningful to this community.\n\nLearn more about the $50 for 50 Campaign and make a donation!
X-ALT-DESC;FMTTYPE=text/html:<h2 style="margin: 0px 0px 0.618em\; padding: 0px\; border: 0px\; font-size: 1.618em\; vertical-align: baseline\; color: rgb(25\, 25\, 25)\; line-height: 1.387em\; font-family: Lato\, sans-serif\;"><br />\n<strong style="margin: 0px\; padding: 0px\; border: 0px\; font-size: 23px\; vertical-align: baseline\;">JOIN US FOR A FULL DAY OF CELEBRATION!</strong></h2>\n\n<h3 style="margin: 0px 0px 0.618em\; padding: 0px\; border: 0px\; font-size: 1.387em\; vertical-align: baseline\; color: rgb(25\, 25\, 25)\; font-family: Lato\, sans-serif\;"><strong style="margin: 0px\; padding: 0px\; border: 0px\; font-size: 19px\; vertical-align: baseline\;">11:00am to 1:00pm &ndash\; Open House at Achieve</strong></h3>\n\n<ul style="margin: 0px 0px 1.618em\; padding-right: 0px\; padding-left: 0px\; border: 0px\; font-size: 14px\; vertical-align: baseline\; list-style-position: inside\; color: rgb(76\, 76\, 76)\; font-family: Lato\, sans-serif\; line-height: 22.652000427246094px\;">\n	<li style="margin: 0px\; padding: 0px\; border: 0px\; vertical-align: baseline\;">Join us at Achieve Services for a tour and an opportunity to meet staff and participants.</li>\n	<li style="margin: 0px\; padding: 0px\; border: 0px\; vertical-align: baseline\;">Learn more about Achieve&rsquo\;s history with 50th Anniversary displays.</li>\n	<li style="margin: 0px\; padding: 0px\; border: 0px\; vertical-align: baseline\;">View and purchase artwork by Achieve participants.</li>\n	<li style="margin: 0px\; padding: 0px\; border: 0px\; vertical-align: baseline\;">Find out about Achieve&rsquo\;s plans for the future including our exciting laundry detergent business!</li>\n	<li style="margin: 0px\; padding: 0px\; border: 0px\; vertical-align: baseline\;">Enjoy complimentary refreshments.</li>\n	<li style="margin: 0px\; padding: 0px\; border: 0px\; vertical-align: baseline\;">WHERE: Achieve Services\, Inc.\, 1201 89th Ave. NE\, Blaine\, MN 55434 (<a href="https://www.google.com/maps/place/Achieve+Services+Inc./@45.132425\,-93.239338\,17z/data=!3m1!4b1!4m2!3m1!1s0x52b32507e84c333b:0x3ee4c1cfb738f640" style="margin: 0px\; padding: 0px\; border: 0px\; vertical-align: baseline\; color: rgb(82\, 160\, 205)\;" target="_blank">Map</a>)</li>\n</ul>\n\n<h3 style="margin: 0px 0px 0.618em\; padding: 0px\; border: 0px\; font-size: 1.387em\; vertical-align: baseline\; color: rgb(25\, 25\, 25)\; font-family: Lato\, sans-serif\;"><strong style="margin: 0px\; padding: 0px\; border: 0px\; font-size: 19px\; vertical-align: baseline\;">12:00pm &ndash\; Ribbon Cutting</strong></h3>\n\n<ul style="margin: 0px 0px 1.618em\; padding-right: 0px\; padding-left: 0px\; border: 0px\; font-size: 14px\; vertical-align: baseline\; list-style-position: inside\; color: rgb(76\, 76\, 76)\; font-family: Lato\, sans-serif\; line-height: 22.652000427246094px\;">\n	<li style="margin: 0px\; padding: 0px\; border: 0px\; vertical-align: baseline\;">The&nbsp\;<a href="http://www.metronorthchamber.org/" style="margin: 0px\; padding: 0px\; border: 0px\; vertical-align: baseline\; color: rgb(82\, 160\, 205)\;" target="_blank">MetroNorth Chamber of Commerce</a>&nbsp\;will be doing a ribbon cutting to commemorate Achieve&rsquo\;s 50-Years of Service.</li>\n	<li style="margin: 0px\; padding: 0px\; border: 0px\; vertical-align: baseline\;">Come to Achieve at noon&nbsp\;and you can be a part of the picture.</li>\n	<li style="margin: 0px\; padding: 0px\; border: 0px\; vertical-align: baseline\;">WHERE: Achieve Services\, Inc.\, 1201 89th Ave. NE\, Blaine\, MN 55434 (<a href="https://www.google.com/maps/place/Achieve+Services+Inc./@45.132425\,-93.239338\,17z/data=!3m1!4b1!4m2!3m1!1s0x52b32507e84c333b:0x3ee4c1cfb738f640" style="margin: 0px\; padding: 0px\; border: 0px\; vertical-align: baseline\; color: rgb(82\, 160\, 205)\;" target="_blank">Map</a>)</li>\n</ul>\n\n<h3 style="margin: 0px 0px 0.618em\; padding: 0px\; border: 0px\; font-size: 1.387em\; vertical-align: baseline\; color: rgb(25\, 25\, 25)\; font-family: Lato\, sans-serif\;"><strong style="margin: 0px\; padding: 0px\; border: 0px\; font-size: 19px\; vertical-align: baseline\;">5:00pm to 7:00pm &ndash\; Anniversary Party!</strong></h3>\n\n<ul style="margin: 0px 0px 1.618em\; padding-right: 0px\; padding-left: 0px\; border: 0px\; font-size: 14px\; vertical-align: baseline\; list-style-position: inside\; color: rgb(76\, 76\, 76)\; font-family: Lato\, sans-serif\; line-height: 22.652000427246094px\;">\n	<li style="margin: 0px\; padding: 0px\; border: 0px\; vertical-align: baseline\;">Come to Brunswick Zone XL in Blaine for an evening celebration!</li>\n	<li style="margin: 0px\; padding: 0px\; border: 0px\; vertical-align: baseline\;">There will be unlimited bowling\, laser tag\, arcade games\, and appetizers.</li>\n	<li style="margin: 0px\; padding: 0px\; border: 0px\; vertical-align: baseline\;">See a display about Achieve Detergent and be among the first to get your name on the pre-order list.</li>\n	<li style="margin: 0px\; padding: 0px\; border: 0px\; vertical-align: baseline\;">All ages and abilities are welcome!</li>\n	<li style="margin: 0px\; padding: 0px\; border: 0px\; vertical-align: baseline\;">There is a $10.00 suggested donation per person to help us cover costs of the event.</li>\n	<li style="margin: 0px\; padding: 0px\; border: 0px\; vertical-align: baseline\;">WHERE: Brunswick Zone XL\, 11351 Ulysses St. NE\, Blaine\, MN 55434 (<a href="https://www.google.com/maps/place/Brunswick+Zone/@45.176814\,-93.235658\,17z/data=!3m1!4b1!4m2!3m1!1s0x52b3247907c74581:0x6f3f2d323a93738e" style="margin: 0px\; padding: 0px\; border: 0px\; vertical-align: baseline\; color: rgb(82\, 160\, 205)\;" target="_blank">Map</a>)</li>\n</ul>\n\n<h2 style="margin: 0px 0px 0.618em\; padding: 0px\; border: 0px\; font-size: 1.618em\; vertical-align: baseline\; color: rgb(25\, 25\, 25)\; line-height: 1.387em\; font-family: Lato\, sans-serif\;"><strong style="margin: 0px\; padding: 0px\; border: 0px\; font-size: 23px\; vertical-align: baseline\;">SUPPORT OUR $50 FOR 50 CAMPAIGN!</strong></h2>\n\n<p style="margin: 0px 0px 1.618em\; padding: 0px\; border: 0px\; font-size: 14px\; vertical-align: baseline\; orphans: 3\; widows: 3\; color: rgb(76\, 76\, 76)\; font-family: Lato\, sans-serif\; line-height: 22.652000427246094px\;">In celebration of Achieve&rsquo\;s 50th Anniversary\, we are encouraging our supporters to donate $50.00 and share a message of support on our website. Our goal is to have 1\,000 people contribute by the end of the year to send the message that the services Achieve provides are meaningful to this community.</p>\n\n<p style="margin: 0px 0px 1.618em\; padding: 0px\; border: 0px\; font-size: 14px\; vertical-align: baseline\; orphans: 3\; widows: 3\; color: rgb(76\, 76\, 76)\; font-family: Lato\, sans-serif\; line-height: 22.652000427246094px\;"><a href="http://www.achieveservices.org/50for50" style="margin: 0px\; padding: 0px\; border: 0px\; vertical-align: baseline\; color: rgb(82\, 160\, 205)\;">Learn more about the $50 for 50 Campaign and make a donation!</a></p>\n
LOCATION:Open House at Achieve Services\, Inc. 1201 89th Ave. NE Blaine\, MN 55434 Evening Celebration at Brunswick Zone XL 11351 Ulysses St. NE Blaine\, MN 55434
UID:e.380.151314
SEQUENCE:3
DTSTAMP:20260424T012443Z
URL:http://members.metronorthchamber.org/events/details/achieve-services-50th-anniversary-celebration-06-04-2014-151314
END:VEVENT

END:VCALENDAR
