BEGIN:VCALENDAR
VERSION:2.0
PRODID:-//ChamberMaster//Event Calendar 2.0//EN
METHOD:PUBLISH
X-PUBLISHED-TTL:P3D
REFRESH-INTERVAL:P3D
CALSCALE:GREGORIAN
BEGIN:VEVENT
DTSTART:20160920T214500Z
DTEND:20160921T000000Z
X-MICROSOFT-CDO-ALLDAYEVENT:FALSE
SUMMARY:Acapulco Wine Dinner
DESCRIPTION:This signature event includes several courses of bountiful food\, oftentimes featuring both fan-favorite menu items & specially-made creations just for us.\n\n\n\nEach course is thoughtfully paired with a glass of wine. You won't leave hungry or thirsty!\n\n\n\nRSVP to Valerie@MetroNorthChamber.org
X-ALT-DESC;FMTTYPE=text/html:This signature event includes several courses of bountiful food\, oftentimes featuring both fan-favorite menu items &amp\; specially-made creations just for us.<br />\n<br />\nEach course is thoughtfully paired with a glass of wine. You won&#39\;t leave hungry or thirsty!<br />\n<br />\nRSVP to Valerie@MetroNorthChamber.org
LOCATION:Acapulco 13753 Ibis Street NW Andover
UID:e.380.163682
SEQUENCE:3
DTSTAMP:20260422T065607Z
URL:http://members.metronorthchamber.org/events/details/acapulco-wine-dinner-09-20-2016-163682
END:VEVENT

END:VCALENDAR
