BEGIN:VCALENDAR
VERSION:2.0
PRODID:-//ChamberMaster//Event Calendar 2.0//EN
METHOD:PUBLISH
X-PUBLISHED-TTL:P3D
REFRESH-INTERVAL:P3D
CALSCALE:GREGORIAN
BEGIN:VEVENT
DTSTART:20170725T214500Z
DTEND:20170725T233000Z
X-MICROSOFT-CDO-ALLDAYEVENT:FALSE
SUMMARY:Acapulco VIP Cocktail Experience
DESCRIPTION:Never one to disappoint\, the Leon family is presenting us with a NEW experience for this annual event   a cocktail experience! Try several cocktails thoughtfully paired with multiple courses of delicious\, made-just-for-us food. If you have never experienced an Acapulco dinner\, then you have been missing out on a truly spectacular evening.
X-ALT-DESC;FMTTYPE=text/html:<span style="font-family:arial\,sans-serif\;"><span style="font-size:10.0pt\;">Never one to disappoint\, the Leon family is presenting us with a NEW experience for this annual event &ndash\; a cocktail experience! Try several cocktails thoughtfully paired with multiple courses of delicious\, made-just-for-us food. If you have never experienced an Acapulco dinner\, then you have been missing out on a truly spectacular evening.</span></span><br />\n&nbsp\;
LOCATION:Acapulco Andover 13753 Ibis Street NW Andover 55304
UID:e.380.171743
SEQUENCE:3
DTSTAMP:20260421T121301Z
URL:http://members.metronorthchamber.org/events/details/acapulco-vip-cocktail-experience-171743
END:VEVENT

END:VCALENDAR
