BEGIN:VCALENDAR
VERSION:2.0
PRODID:-//ChamberMaster//Event Calendar 2.0//EN
METHOD:PUBLISH
X-PUBLISHED-TTL:P3D
REFRESH-INTERVAL:P3D
CALSCALE:GREGORIAN
BEGIN:VEVENT
DTSTART:20150728T214500Z
DTEND:20150729T000000Z
X-MICROSOFT-CDO-ALLDAYEVENT:FALSE
SUMMARY:Acapulco-Ramsey Wine Dinner
DESCRIPTION:This signature event includes several courses of bountiful food\, oftentimes featuring both fan-favorite menu items & specially-made creations just for us.\n\n\n\nEach course is thoughtfully paired with a glass of wine. You won't leave hungry or thirsty!\n\n\n\nRSVP at Valerie@MetroNorthChamber.org
X-ALT-DESC;FMTTYPE=text/html:This signature event includes several courses of bountiful food\, oftentimes featuring both fan-favorite menu items &amp\; specially-made creations just for us.<br />\n<br />\nEach course is thoughtfully paired with a glass of wine. You won&#39\;t leave hungry or thirsty!<br />\n<br />\nRSVP at Valerie@MetroNorthChamber.org
LOCATION:Acapulco in Ramsey 7988 Sunwood Drive W Ramsey\, MN 55303
UID:e.380.157318
SEQUENCE:3
DTSTAMP:20260423T054415Z
URL:http://members.metronorthchamber.org/events/details/acapulco-ramsey-wine-dinner-07-28-2015-157318
END:VEVENT

END:VCALENDAR
