BEGIN:VCALENDAR
VERSION:2.0
PRODID:-//ChamberMaster//Event Calendar 2.0//EN
METHOD:PUBLISH
X-PUBLISHED-TTL:P3D
REFRESH-INTERVAL:P3D
CALSCALE:GREGORIAN
BEGIN:VEVENT
DTSTART:20151016T190000Z
DTEND:20151016T193000Z
X-MICROSOFT-CDO-ALLDAYEVENT:FALSE
SUMMARY:Acapulco - Ground Breaking Andover
DESCRIPTION:Acapulco will celebrate their new Andover location with a ceremonial ground breaking on Monday\, October 12 at 2:00pm.
X-ALT-DESC;FMTTYPE=text/html:Acapulco will celebrate their new Andover location with a ceremonial ground breaking on Monday\, October 12 at 2:00pm.&nbsp\;
LOCATION:13753 Ibis St. NW\, next to the Walmart & Dynamic Sealing Technologies on the north side of Bunker Lake Blvd in Andover.
UID:e.380.159630
SEQUENCE:3
DTSTAMP:20260422T234302Z
URL:http://members.metronorthchamber.org/events/details/acapulco-ground-breaking-andover-10-16-2015-159630
END:VEVENT

END:VCALENDAR
