BEGIN:VCALENDAR
VERSION:2.0
PRODID:-//ChamberMaster//Event Calendar 2.0//EN
METHOD:PUBLISH
X-PUBLISHED-TTL:P3D
REFRESH-INTERVAL:P3D
CALSCALE:GREGORIAN
BEGIN:VEVENT
DTSTART:20160914T214500Z
DTEND:20160914T233000Z
X-MICROSOFT-CDO-ALLDAYEVENT:FALSE
SUMMARY:A Tale of Two Campaigns
DESCRIPTION:Join the MetroNorth Chamber Leadership Fund (PAC) for an after-hours. The DFL and GOP state party chairs will attend and discuss the role of national elections in Minnesota races\, as well as an opportunity to meet a variety of local candidates. Brian Bakst from MPR will moderate.
X-ALT-DESC;FMTTYPE=text/html:Join the MetroNorth Chamber Leadership Fund (PAC) for an after-hours. The DFL and GOP state party chairs will attend and discuss the role of national elections in Minnesota races\, as well as an opportunity to meet a variety of local candidates.&nbsp\;Brian Bakst from MPR will moderate.
LOCATION:Sticks & Stones/Four Seasons Curling Club 9250 Lincoln Street NE Blaine 55434
UID:e.380.169133
SEQUENCE:3
DTSTAMP:20260422T070602Z
URL:http://members.metronorthchamber.org/events/details/a-tale-of-two-campaigns-09-14-2016-169133
END:VEVENT

END:VCALENDAR
