BEGIN:VCALENDAR
VERSION:2.0
PRODID:-//ChamberMaster//Event Calendar 2.0//EN
METHOD:PUBLISH
X-PUBLISHED-TTL:P3D
REFRESH-INTERVAL:P3D
CALSCALE:GREGORIAN
BEGIN:VEVENT
DTSTART;VALUE=DATE:20131205
DTEND;VALUE=DATE:20131222
TRANSP:TRANSPARENT
X-MICROSOFT-CDO-ALLDAYEVENT:TRUE
SUMMARY:A Gift for All Seasons Holiday Handmade Sale and Tea
DESCRIPTION:Banfill-Locke Center for the Arts invites you to buy local this holiday season.  From December 5 through December 21\, we transform our galleries into a showcase of handmade products\, perfect for your gift giving needs.  Featuring jewelry\, scarves\, wall art\, books\, edibles\, and more\, you are sure to find unique gifts for your friends\, family\, service providers\, teachers\, and more.
X-ALT-DESC;FMTTYPE=text/html:Banfill-Locke Center for the Arts invites you to buy local this holiday season. &nbsp\;From December 5 through December 21\, we transform our galleries into a showcase of handmade products\, perfect for your gift giving needs. &nbsp\;Featuring jewelry\, scarves\, wall art\, books\, edibles\, and more\, you are sure to find unique gifts for your friends\, family\, service providers\, teachers\, and more. &nbsp\;
LOCATION:Banfill-Locke Center for the Arts\, 6666 East River Road\, Fridley\, MN 55432
UID:e.380.149878
SEQUENCE:3
DTSTAMP:20260424T111800Z
URL:http://members.metronorthchamber.org/events/details/a-gift-for-all-seasons-holiday-handmade-sale-and-tea-12-05-2013-149878
END:VEVENT

END:VCALENDAR
