BEGIN:VCALENDAR
VERSION:2.0
PRODID:-//ChamberMaster//Event Calendar 2.0//EN
METHOD:PUBLISH
X-PUBLISHED-TTL:P3D
REFRESH-INTERVAL:P3D
CALSCALE:GREGORIAN
BEGIN:VEVENT
DTSTART;VALUE=DATE:20130928
DTEND;VALUE=DATE:20130929
TRANSP:TRANSPARENT
X-MICROSOFT-CDO-ALLDAYEVENT:TRUE
SUMMARY:9th Annual Walk for Hope Benefitting Alexandra House
DESCRIPTION:On Saturday\, September 28\, 2013\, Alexandra House will hold the ninth annual Walk for Hope to raise awareness about domestic and sexual violence. The walk is a family and pet-friendly event with the option of a 5k run or 2 mile walk through the beautiful trails at Bunker Hills Regional Park.  Registration/check-in is from 8am-9am\, followed by a short program and the race kickoff at 9:30.  \n\n\n\nPreregistration is now open! Visit www.alexandrahouse.org to register online\, or contact us to request paper registration forms.\n\n\n\nFundraising: Increase your impact! Individuals and teams can create fundraising pages to support Alexandra House through the Walk for Hope. Customized fundraising pages make it easy to promote the walk through email and social media.
X-ALT-DESC;FMTTYPE=text/html:On Saturday\, September 28\, 2013\, Alexandra House will hold the ninth annual Walk for Hope to raise awareness about domestic and sexual violence. The walk is a family and pet-friendly event with the option of a 5k run or 2 mile walk through the beautiful trails at Bunker Hills Regional Park.&nbsp\; Registration/check-in is from 8am-9am\, followed by a short program and the race kickoff at 9:30. &nbsp\;<br />\n<br />\nPreregistration is now open! Visit <u><a href="http://www.alexandrahouse.org"><span style="color:#0000ff\;">www.alexandrahouse.org</span></a></u> to register online\, or contact us to request paper registration forms.<br />\n<br />\nFundraising: Increase your impact! Individuals and teams can create fundraising pages to support Alexandra House through the Walk for Hope. Customized fundraising pages make it easy to promote the walk through email and social media.<br />\n
LOCATION:Bunker Hills Regional Park
UID:e.380.149470
SEQUENCE:3
DTSTAMP:20260424T162157Z
URL:http://members.metronorthchamber.org/events/details/9th-annual-walk-for-hope-benefitting-alexandra-house-09-28-2013-149470
END:VEVENT

END:VCALENDAR
