BEGIN:VCALENDAR
VERSION:2.0
PRODID:-//ChamberMaster//Event Calendar 2.0//EN
METHOD:PUBLISH
X-PUBLISHED-TTL:P3D
REFRESH-INTERVAL:P3D
CALSCALE:GREGORIAN
BEGIN:VEVENT
DTSTART;VALUE=DATE:20170817
DTEND;VALUE=DATE:20170818
TRANSP:TRANSPARENT
X-MICROSOFT-CDO-ALLDAYEVENT:TRUE
SUMMARY:99 Cent TShirts!!! National Thrift Day
DESCRIPTION:99 Cent TShirt For National Thrift Day!!
X-ALT-DESC;FMTTYPE=text/html:99 Cent TShirt For National Thrift Day!!
LOCATION:Savers 50 Coon Rapids Blvd\, Coon Rapids 55448
UID:e.380.176296
SEQUENCE:3
DTSTAMP:20260421T121521Z
URL:http://members.metronorthchamber.org/events/details/99-cent-tshirts-nation-thrift-day-176296
END:VEVENT

END:VCALENDAR
