BEGIN:VCALENDAR
VERSION:2.0
PRODID:-//ChamberMaster//Event Calendar 2.0//EN
METHOD:PUBLISH
X-PUBLISHED-TTL:P3D
REFRESH-INTERVAL:P3D
CALSCALE:GREGORIAN
BEGIN:VEVENT
DTSTART:20190219T233000Z
DTEND:20190220T010000Z
X-MICROSOFT-CDO-ALLDAYEVENT:FALSE
SUMMARY:8 Weeks Group - Daring Greatly! Show Up. Be Seen. Live Brave
DESCRIPTION:
X-ALT-DESC;FMTTYPE=text/html:
LOCATION:6776 Lake Drive Sutie 170 Lino Lakes\, MN 55014 www.bridginghopecouseling.com 763-291-5505 to Schedule an Intake
UID:e.380.188439
SEQUENCE:3
DTSTAMP:20260420T073815Z
URL:http://members.metronorthchamber.org/events/details/8-weeks-group-daring-greatly-show-up-be-seen-live-brave-188439
END:VEVENT

END:VCALENDAR
