BEGIN:VCALENDAR
VERSION:2.0
PRODID:-//ChamberMaster//Event Calendar 2.0//EN
METHOD:PUBLISH
X-PUBLISHED-TTL:P3D
REFRESH-INTERVAL:P3D
CALSCALE:GREGORIAN
BEGIN:VEVENT
DTSTART:20160302T010000Z
DTEND:20160302T023000Z
X-MICROSOFT-CDO-ALLDAYEVENT:FALSE
SUMMARY:7 Steps to a Debt-Free College Degree Workshop
DESCRIPTION:Learn how to navigate college without becoming a slave to student loan debt. This FREE information-packet workshop is for parents and students in grades 9   12. Teens are encouraged to attend. Topics include: How to earn low-cost college credit while in high school\, understanding your affordable college options\, the truth about financial aid\, and how to find a career that is right for you. This event is sponsored by The Virtues Campus and presented by Cheri Frame\, Program Director. Handouts provided and seating is limited. Please register in advance with the host church.
X-ALT-DESC;FMTTYPE=text/html:<p>Learn how to navigate college without becoming a slave to student loan debt. This FREE information-packet workshop is <strong>for parents and students in grades 9 &ndash\; 12. Teens are encouraged to attend.</strong> Topics include: How to earn low-cost college credit while in high school\, understanding your affordable college options\, the truth about financial aid\,&nbsp\;and how to find a career that is right for you. This event is sponsored by The Virtues Campus and presented by Cheri Frame\, Program Director. Handouts provided and seating is limited. Please register in advance with the host church.</p>\n
LOCATION:Lutheran Church of the Master - Brooklyn Center\, MN
UID:e.380.160930
SEQUENCE:3
DTSTAMP:20260422T175234Z
URL:http://members.metronorthchamber.org/events/details/7-steps-to-a-debt-free-college-degree-workshop-03-01-2016-160930
END:VEVENT

END:VCALENDAR
