BEGIN:VCALENDAR
VERSION:2.0
PRODID:-//ChamberMaster//Event Calendar 2.0//EN
METHOD:PUBLISH
X-PUBLISHED-TTL:P3D
REFRESH-INTERVAL:P3D
CALSCALE:GREGORIAN
BEGIN:VEVENT
DTSTART:20190802T200000Z
DTEND:20190803T003000Z
X-MICROSOFT-CDO-ALLDAYEVENT:FALSE
SUMMARY:6th Annual Golf Tournament & Dinner
DESCRIPTION:Impact Services provides Meals on Wheels\, Family Aging Education\, & Voices of Impact (Dementia Friendly Choir).\n\n\n\nOur golf tournament is a great way to support our cause and help your neighbors in need.\n\n\n\nPlease join us for our 6th (9 Hole) Annual Golf Tournament & Dinner!\n\n\n\nAll are invited regardless of skill. Can't golf - please join us for dinner & raffle.
X-ALT-DESC;FMTTYPE=text/html:Impact Services provides Meals on Wheels\, Family Aging Education\, &amp\; Voices of Impact (Dementia Friendly Choir).<br />\n<br />\nOur golf tournament is a great way to support our cause and help your neighbors in need.<br />\n<br />\nPlease join us for our 6th (9 Hole) Annual Golf Tournament &amp\; Dinner!<br />\n<br />\nAll are invited regardless of skill. Can&#39\;t golf - please join us for dinner &amp\; raffle.<br />\n<br />\n&nbsp\;
LOCATION:Majestic Oaks Golf Course 701 Bunker Lake Blvd Ham Lake\, MN
UID:e.380.190705
SEQUENCE:3
DTSTAMP:20260419T212629Z
URL:http://members.metronorthchamber.org/events/details/6th-annual-golf-tournament-dinner-190705
END:VEVENT

END:VCALENDAR
