BEGIN:VCALENDAR
VERSION:2.0
PRODID:-//ChamberMaster//Event Calendar 2.0//EN
METHOD:PUBLISH
X-PUBLISHED-TTL:P3D
REFRESH-INTERVAL:P3D
CALSCALE:GREGORIAN
BEGIN:VEVENT
DTSTART:20160429T123000Z
DTEND:20160429T141500Z
X-MICROSOFT-CDO-ALLDAYEVENT:FALSE
SUMMARY:5th Friday Sunrise - Warners' Stellian
DESCRIPTION:Join us for our 5th Friday Sunrise. Big thanks to Warners' Stellian for hosting this event.
X-ALT-DESC;FMTTYPE=text/html:Join us for our 5th Friday Sunrise. Big thanks to&nbsp\;Warners&#39\; Stellian for hosting&nbsp\;this event.&nbsp\;
LOCATION:Warners' Stellian 3440 129th Ave. NW Coon Rapids\, MN 55448
UID:e.380.159858
SEQUENCE:3
DTSTAMP:20260422T133457Z
URL:http://members.metronorthchamber.org/events/details/5th-friday-sunrise-warners-stellian-04-29-2016-159858
END:VEVENT

END:VCALENDAR
