BEGIN:VCALENDAR
VERSION:2.0
PRODID:-//ChamberMaster//Event Calendar 2.0//EN
METHOD:PUBLISH
X-PUBLISHED-TTL:P3D
REFRESH-INTERVAL:P3D
CALSCALE:GREGORIAN
BEGIN:VEVENT
DTSTART:20200131T133000Z
DTEND:20200131T150000Z
X-MICROSOFT-CDO-ALLDAYEVENT:FALSE
SUMMARY:5th Friday Sunrise - Urban Air
DESCRIPTION:Join us January 31st at Urban Air Adventure Park in Coon Rapids for our 5th Friday Sunrise. An RSVP is required\, as host is providing food at no cost to us. Feel free to register online or contact us in order to claim your spot!
X-ALT-DESC;FMTTYPE=text/html:Join us January 31st at Urban Air Adventure Park in Coon Rapids for our 5th Friday Sunrise. An RSVP is required\, as host is providing food at no cost to us. Feel free to register online or contact us in order to claim your spot!
LOCATION:10 Coon Rapids Boulevard Coon Rapids 55448
UID:e.380.191172
SEQUENCE:3
DTSTAMP:20260419T125118Z
URL:http://members.metronorthchamber.org/events/details/5th-friday-sunrise-urban-air-191172
END:VEVENT

END:VCALENDAR
