BEGIN:VCALENDAR
VERSION:2.0
PRODID:-//ChamberMaster//Event Calendar 2.0//EN
METHOD:PUBLISH
X-PUBLISHED-TTL:P3D
REFRESH-INTERVAL:P3D
CALSCALE:GREGORIAN
BEGIN:VEVENT
DTSTART:20190531T123000Z
DTEND:20190531T140000Z
X-MICROSOFT-CDO-ALLDAYEVENT:FALSE
SUMMARY:5th Friday Sunrise - Streamworks
DESCRIPTION:Join us May 31 at Streamworks in Blaine for our 5th Friday Sunrise. An RSVP is required\, as seating is limited. Feel free to register online or contact us in order to claim your spot! There is no cost at a 5th Friday Sunrise.
X-ALT-DESC;FMTTYPE=text/html:Join us May 31 at Streamworks in Blaine for our 5th Friday Sunrise. An RSVP is required\, as seating is limited. Feel free to register online or contact us in order to claim your spot! There is no cost at a 5th Friday Sunrise.
LOCATION:Steamworks 3640 Pheasant RIdge Drive NE Blaine 55449
UID:e.380.187955
SEQUENCE:3
DTSTAMP:20260420T022321Z
URL:http://members.metronorthchamber.org/events/details/5th-friday-sunrise-streamworks-187955
END:VEVENT

END:VCALENDAR
