BEGIN:VCALENDAR
VERSION:2.0
PRODID:-//ChamberMaster//Event Calendar 2.0//EN
METHOD:PUBLISH
X-PUBLISHED-TTL:P3D
REFRESH-INTERVAL:P3D
CALSCALE:GREGORIAN
BEGIN:VEVENT
DTSTART:20170331T123000Z
DTEND:20170331T140000Z
X-MICROSOFT-CDO-ALLDAYEVENT:FALSE
SUMMARY:5th Friday Sunrise SBM Fire Department
DESCRIPTION:5th Friday Sunrise hosted by the SBM\, Blaine\, Spring Lake Park\, Mounds View Fire Department. A station tour will be available after the Sunrise is complete. Limit 75 people.
X-ALT-DESC;FMTTYPE=text/html:5th Friday Sunrise hosted by the SBM\, Blaine\, Spring Lake Park\,&nbsp\;Mounds View Fire Department. A station tour will be available after the Sunrise is complete. Limit 75 people.
LOCATION:Station #3 11920 Ulysses Street NE Blaine\, MN 55434
UID:e.380.171776
SEQUENCE:3
DTSTAMP:20260421T184521Z
URL:http://members.metronorthchamber.org/events/details/5th-friday-sunrise-sbm-fire-department-171776
END:VEVENT

END:VCALENDAR
