BEGIN:VCALENDAR
VERSION:2.0
PRODID:-//ChamberMaster//Event Calendar 2.0//EN
METHOD:PUBLISH
X-PUBLISHED-TTL:P3D
REFRESH-INTERVAL:P3D
CALSCALE:GREGORIAN
BEGIN:VEVENT
DTSTART:20190329T123000Z
DTEND:20190329T140000Z
X-MICROSOFT-CDO-ALLDAYEVENT:FALSE
SUMMARY:5th Friday Sunrise - McMillan Apartments
DESCRIPTION:Join us March 29 at the McMillan Apartments in Shoreview for our 5th Friday Sunrise. An RSVP is required\, as seating is limited. Feel free to register online or contact us in order to claim your spot! There is no cost at a 5th Friday Sunrise.
X-ALT-DESC;FMTTYPE=text/html:Join us March 29 at the McMillan Apartments in Shoreview for our 5th Friday Sunrise. An RSVP is required\, as seating is limited. Feel free to register online or contact us in order to claim your spot! There is no cost at a 5th Friday Sunrise.
LOCATION:McMillan Apartments 157 Grass Lake Place Shoreview 55126
UID:e.380.187458
SEQUENCE:3
DTSTAMP:20260420T073918Z
URL:http://members.metronorthchamber.org/events/details/5th-friday-sunrise-mcmillan-apartments-187458
END:VEVENT

END:VCALENDAR
