BEGIN:VCALENDAR
VERSION:2.0
PRODID:-//ChamberMaster//Event Calendar 2.0//EN
METHOD:PUBLISH
X-PUBLISHED-TTL:P3D
REFRESH-INTERVAL:P3D
CALSCALE:GREGORIAN
BEGIN:VEVENT
DTSTART:20120330T123000Z
DTEND:20120330T143000Z
X-MICROSOFT-CDO-ALLDAYEVENT:FALSE
SUMMARY:5th Friday Sunrise - March 30\, 2012
DESCRIPTION:Join us for our 5th Friday Sunrise hosted by Cardinal Stritch University at their new location in Coon Rapids! RSVP appreciated.
X-ALT-DESC;FMTTYPE=text/html:<span style="font-family:tahoma\;"><span style="font-size: 10px\;">Join us for our 5th Friday Sunrise hosted by Cardinal Stritch University at their new location in Coon Rapids! RSVP appreciated.</span></span>
LOCATION:Cardinal Stritch University 9145 Springbrook Drive\, Suite 203 Coon Rapids\, MN 55433
UID:e.380.143465
SEQUENCE:3
DTSTAMP:20260425T210748Z
URL:http://members.metronorthchamber.org/events/details/5th-friday-sunrise-march-30-2012-03-30-2012-143465
END:VEVENT

END:VCALENDAR
