BEGIN:VCALENDAR
VERSION:2.0
PRODID:-//ChamberMaster//Event Calendar 2.0//EN
METHOD:PUBLISH
X-PUBLISHED-TTL:P3D
REFRESH-INTERVAL:P3D
CALSCALE:GREGORIAN
BEGIN:VEVENT
DTSTART:20190830T123000Z
DTEND:20190830T140000Z
X-MICROSOFT-CDO-ALLDAYEVENT:FALSE
SUMMARY:5th Friday Sunrise - Majestic Oaks
DESCRIPTION:Join us August 30 at Majestic Oaks Golf Club in Ham Lake for our 5th Friday Sunrise. An RSVP is required\, as our host is providing breakfast an no charge! Feel free to register online or contact us to RSVP.
X-ALT-DESC;FMTTYPE=text/html:Join us August 30 at Majestic Oaks Golf Club in Ham Lake for our 5th Friday Sunrise. An RSVP is required\, as our host is providing breakfast an no charge! Feel free to register online or contact us to RSVP.
LOCATION:Majestic Oaks Golf Club - Fireside Room 701 Bunker Lake Boulevard Ham Lake 55304
UID:e.380.187947
SEQUENCE:3
DTSTAMP:20260419T213006Z
URL:http://members.metronorthchamber.org/events/details/5th-friday-sunrise-majestic-oaks-187947
END:VEVENT

END:VCALENDAR
