BEGIN:VCALENDAR
VERSION:2.0
PRODID:-//ChamberMaster//Event Calendar 2.0//EN
METHOD:PUBLISH
X-PUBLISHED-TTL:P3D
REFRESH-INTERVAL:P3D
CALSCALE:GREGORIAN
BEGIN:VEVENT
DTSTART:20180629T123000Z
DTEND:20180629T140000Z
X-MICROSOFT-CDO-ALLDAYEVENT:FALSE
SUMMARY:5th Friday Sunrise - Lyric Arts
DESCRIPTION:Join us\, June 29th at Lyric Arts in Anoka for this special event. An RSVP is required\, as seating is limited. Feel free to register online or contact us in order to claim your spot! There is no cost at a 5th Friday Sunrise.
X-ALT-DESC;FMTTYPE=text/html:<span style="font-family: Arial\, Verdana\, Helvetica\, sans-serif\; font-size: 18px\; white-space: pre-wrap\; background-color: rgb(255\, 255\, 255)\;">Join us\, June 29th</span><span style="font-family: Arial\, Verdana\, Helvetica\, sans-serif\; font-size: 18px\; white-space: pre-wrap\; background-color: rgb(255\, 255\, 255)\;"> at Lyric Arts in Anoka for this special event.</span><span style="font-family: Arial\, Verdana\, Helvetica\, sans-serif\; font-size: 18px\; white-space: pre-wrap\; background-color: rgb(255\, 255\, 255)\;"> An RSVP is required\, as seating is limited. Feel free to register online or contact us in order to claim your spot! There is no cost at a 5th Friday Sunrise.</span>
LOCATION:Lyric Arts Main Street Stage 420 East Main Street Anoka 55303
UID:e.380.184885
SEQUENCE:3
DTSTAMP:20260420T212750Z
URL:http://members.metronorthchamber.org/events/details/5th-friday-sunrise-lyric-arts-184885
END:VEVENT

END:VCALENDAR
