BEGIN:VCALENDAR
VERSION:2.0
PRODID:-//ChamberMaster//Event Calendar 2.0//EN
METHOD:PUBLISH
X-PUBLISHED-TTL:P3D
REFRESH-INTERVAL:P3D
CALSCALE:GREGORIAN
BEGIN:VEVENT
DTSTART:20181130T133000Z
DTEND:20181130T150000Z
X-MICROSOFT-CDO-ALLDAYEVENT:FALSE
SUMMARY:5th Friday Sunrise
DESCRIPTION:Join us for our 5th Friday Sunrise at Route 47 Pub & Grub.
X-ALT-DESC;FMTTYPE=text/html:Join us for our 5th Friday Sunrise at Route 47 Pub &amp\; Grub.&nbsp\;
LOCATION:Route 47 Pub & Grub 7820 University Avenue NE Fridley 55432
UID:e.380.186966
SEQUENCE:3
DTSTAMP:20260420T121056Z
URL:http://members.metronorthchamber.org/events/details/5th-friday-sunrise-186966
END:VEVENT

END:VCALENDAR
