BEGIN:VCALENDAR
VERSION:2.0
PRODID:-//ChamberMaster//Event Calendar 2.0//EN
METHOD:PUBLISH
X-PUBLISHED-TTL:P3D
REFRESH-INTERVAL:P3D
CALSCALE:GREGORIAN
BEGIN:VEVENT
DTSTART:20180831T123000Z
DTEND:20180831T140000Z
X-MICROSOFT-CDO-ALLDAYEVENT:FALSE
SUMMARY:5th Friday Sunrise
DESCRIPTION:Join us\, August 31st at Fire Fitness Ham Lake for this special event. This new facility opened last year. An RSVP is required for this special event as seating is limited. Feel free to register online or contact us in order to claim your spot! There is no cost for 5th Friday Sunrises.
X-ALT-DESC;FMTTYPE=text/html:<span style="font-family: Arial\, Verdana\, Helvetica\, sans-serif\; font-size: 18px\; white-space: pre-wrap\; background-color: rgb(255\, 255\, 255)\;">Join us\, August 31st</span><span style="font-family: Arial\, Verdana\, Helvetica\, sans-serif\; font-size: 18px\; white-space: pre-wrap\; background-color: rgb(255\, 255\, 255)\;"> at Fire Fitness Ham Lake for this special event.&nbsp\;This new facility opened last year</span><span style="font-family: Arial\, Verdana\, Helvetica\, sans-serif\; font-size: 18px\; white-space: pre-wrap\; background-color: rgb(255\, 255\, 255)\;">. An RSVP is required for this special event as seating is limited. Feel free to register online or contact us in order to claim your spot! There is no cost for </span>5th<span style="font-family: Arial\, Verdana\, Helvetica\, sans-serif\; font-size: 18px\; white-space: pre-wrap\; background-color: rgb(255\, 255\, 255)\;"> Friday Sunrises.</span>
LOCATION:FIRE Fitness Ham Lake 14050 Lincoln Street NE Suite 400 Ham Lake\, MN 55304 763-270-0567
UID:e.380.182755
SEQUENCE:3
DTSTAMP:20260420T165153Z
URL:http://members.metronorthchamber.org/events/details/5th-friday-sunrise-182755
END:VEVENT

END:VCALENDAR
