BEGIN:VCALENDAR
VERSION:2.0
PRODID:-//ChamberMaster//Event Calendar 2.0//EN
METHOD:PUBLISH
X-PUBLISHED-TTL:P3D
REFRESH-INTERVAL:P3D
CALSCALE:GREGORIAN
BEGIN:VEVENT
DTSTART:20180330T123000Z
DTEND:20180330T140000Z
X-MICROSOFT-CDO-ALLDAYEVENT:FALSE
SUMMARY:5th Friday Sunrise
DESCRIPTION:Our first 5th Friday Sunrise of 2018 is on the horizon! Join us\, March 30th at The Parkway Off Central for this special event. This new apartment complex opened last year\, and we are going to be privvy to tours. An RSVP is required for this special event as seating is limited. Feel free to register online or contact us in order to claim your spot! There is no cost for 5th Friday Sunrises.
X-ALT-DESC;FMTTYPE=text/html:<span style="color: rgb(0\, 0\, 0)\; font-family: Arial\, Verdana\, Helvetica\, sans-serif\; font-size: 18px\; white-space: pre-wrap\;">Our first 5th Friday Sunrise of 2018 is on the horizon! Join us\, March 30th at The Parkway Off Central for this special event.&nbsp\;This new apartment complex opened last year\, and we are going to be privvy to tours. An RSVP is required for this special event as seating is limited. Feel free to register online or contact us in order to claim your spot! There is no cost for 5th Friday Sunrises.</span>
LOCATION:The Parkway Off Central 9436 Ulysses Street NE Blaine 55434
UID:e.380.179260
SEQUENCE:3
DTSTAMP:20260421T002833Z
URL:http://members.metronorthchamber.org/events/details/5th-friday-sunrise-179260
END:VEVENT

END:VCALENDAR
