BEGIN:VCALENDAR
VERSION:2.0
PRODID:-//ChamberMaster//Event Calendar 2.0//EN
METHOD:PUBLISH
X-PUBLISHED-TTL:P3D
REFRESH-INTERVAL:P3D
CALSCALE:GREGORIAN
BEGIN:VEVENT
DTSTART:20171229T133000Z
DTEND:20171229T150000Z
X-MICROSOFT-CDO-ALLDAYEVENT:FALSE
SUMMARY:5th Friday Sunrise
DESCRIPTION:5th Friday Sunrise
X-ALT-DESC;FMTTYPE=text/html:5th Friday Sunrise
LOCATION:Bridal Aisle Off the Rack Boutique & Consignment 308 5th Ave SE Osseo\, MN 55369
UID:e.380.173220
SEQUENCE:3
DTSTAMP:20260421T050703Z
URL:http://members.metronorthchamber.org/events/details/5th-friday-sunrise-173220
END:VEVENT

END:VCALENDAR
