BEGIN:VCALENDAR
VERSION:2.0
PRODID:-//ChamberMaster//Event Calendar 2.0//EN
METHOD:PUBLISH
X-PUBLISHED-TTL:P3D
REFRESH-INTERVAL:P3D
CALSCALE:GREGORIAN
BEGIN:VEVENT
DTSTART:20170929T123000Z
DTEND:20170929T140000Z
X-MICROSOFT-CDO-ALLDAYEVENT:FALSE
SUMMARY:5th Friday Sunrise
DESCRIPTION:5th Friday Sunrise
X-ALT-DESC;FMTTYPE=text/html:5th Friday Sunrise&nbsp\;&nbsp\;&nbsp\;&nbsp\;
LOCATION:Urban Air Adventure Park 10 Coon Rapids Boulevard Coon Rapids 55433
UID:e.380.173219
SEQUENCE:3
DTSTAMP:20260421T105808Z
URL:http://members.metronorthchamber.org/events/details/5th-friday-sunrise-173219
END:VEVENT

END:VCALENDAR
