BEGIN:VCALENDAR
VERSION:2.0
PRODID:-//ChamberMaster//Event Calendar 2.0//EN
METHOD:PUBLISH
X-PUBLISHED-TTL:P3D
REFRESH-INTERVAL:P3D
CALSCALE:GREGORIAN
BEGIN:VEVENT
DTSTART:20170630T123000Z
DTEND:20170630T140000Z
X-MICROSOFT-CDO-ALLDAYEVENT:FALSE
SUMMARY:5th Friday Sunrise
DESCRIPTION:5th Friday Sunrise
X-ALT-DESC;FMTTYPE=text/html:5th Friday Sunrise&nbsp\;&nbsp\;&nbsp\;&nbsp\;&nbsp\;&nbsp\;&nbsp\;&nbsp\;
LOCATION:Anoka County Historical Society 2135 North 3rd Avenue Anoka 55303
UID:e.380.173218
SEQUENCE:3
DTSTAMP:20260421T134919Z
URL:http://members.metronorthchamber.org/events/details/5th-friday-sunrise-173218
END:VEVENT

END:VCALENDAR
