BEGIN:VCALENDAR
VERSION:2.0
PRODID:-//ChamberMaster//Event Calendar 2.0//EN
METHOD:PUBLISH
X-PUBLISHED-TTL:P3D
REFRESH-INTERVAL:P3D
CALSCALE:GREGORIAN
BEGIN:VEVENT
DTSTART:20161230T133000Z
DTEND:20161230T151500Z
X-MICROSOFT-CDO-ALLDAYEVENT:FALSE
SUMMARY:5th Friday Sunrise
DESCRIPTION:Hope 4 YOUTH
X-ALT-DESC;FMTTYPE=text/html:Hope 4 YOUTH
LOCATION:2665 4th Avenue N Suite 40 Anoka\, MN 55303
UID:e.380.159861
SEQUENCE:3
DTSTAMP:20260421T235401Z
URL:http://members.metronorthchamber.org/events/details/5th-friday-sunrise-12-30-2016-159861
END:VEVENT

END:VCALENDAR
