BEGIN:VCALENDAR
VERSION:2.0
PRODID:-//ChamberMaster//Event Calendar 2.0//EN
METHOD:PUBLISH
X-PUBLISHED-TTL:P3D
REFRESH-INTERVAL:P3D
CALSCALE:GREGORIAN
BEGIN:VEVENT
DTSTART:20150529T123000Z
DTEND:20150529T141500Z
X-MICROSOFT-CDO-ALLDAYEVENT:FALSE
SUMMARY:5th Friday Sunrise
DESCRIPTION:Join us for our 5th Friday Sunrise at Stepping Stone Emergency Housing in Anoka. Enjoy a complimentary breakfast while you make connections!
X-ALT-DESC;FMTTYPE=text/html:Join us for our 5th Friday Sunrise at Stepping Stone Emergency Housing in Anoka. Enjoy a complimentary breakfast while you make connections!
LOCATION:Stepping Stone Emergency Housing 3300 4th Ave North Cronin Building #14 Anoka\, MN 55303
UID:e.380.157263
SEQUENCE:3
DTSTAMP:20260423T083500Z
URL:http://members.metronorthchamber.org/events/details/5th-friday-sunrise-05-29-2015-157263
END:VEVENT

END:VCALENDAR
