BEGIN:VCALENDAR
VERSION:2.0
PRODID:-//ChamberMaster//Event Calendar 2.0//EN
METHOD:PUBLISH
X-PUBLISHED-TTL:P3D
REFRESH-INTERVAL:P3D
CALSCALE:GREGORIAN
BEGIN:VEVENT
DTSTART:20150130T133000Z
DTEND:20150130T151500Z
X-MICROSOFT-CDO-ALLDAYEVENT:FALSE
SUMMARY:5th Friday Sunrise
DESCRIPTION:Join us for our 5th Friday Sunrise at Bonfire Wood Fire Cooking and enjoy a complimentary hot breakfast while you make connections!
X-ALT-DESC;FMTTYPE=text/html:<span style="font-size: 14px\;"><span style="color: rgb(0\, 0\, 0)\;"><span class="cm_editor_fix">Join us for our 5th Friday Sunrise at Bonfire Wood Fire Cooking and enjoy a complimentary&nbsp\;hot&nbsp\;breakfast while you </span><span style="font-family: tahoma\;">make connections</span><span class="cm_editor_fix">!</span></span></span>
LOCATION:Bonfire Wood Fire Cooking of Blaine 4365 Pheasant Ridge Dr NE Blaine\, MN 55449
UID:e.380.152524
SEQUENCE:3
DTSTAMP:20260423T144508Z
URL:http://members.metronorthchamber.org/events/details/5th-friday-sunrise-01-30-2015-152524
END:VEVENT

END:VCALENDAR
