BEGIN:VCALENDAR
VERSION:2.0
PRODID:-//ChamberMaster//Event Calendar 2.0//EN
METHOD:PUBLISH
X-PUBLISHED-TTL:P3D
REFRESH-INTERVAL:P3D
CALSCALE:GREGORIAN
BEGIN:VEVENT
DTSTART:20180708T170000Z
DTEND:20180708T230000Z
X-MICROSOFT-CDO-ALLDAYEVENT:FALSE
SUMMARY:50th Anniversary Party at Bunker Hills Golf Club
DESCRIPTION:We're throwing one heck of a party as Bunker Hills Golf Club (Coon Rapids\, MN) celebrates 50 years.\n\n\n\nJoin us July 8 from 12-6 for live music\, complimentary golf instruction for the whole family from Golftec\, happy hour specials starting at 11 a.m. and much much more (including cake!)\n\n\n\nAnd a special 3-course Kendall's Tavern & Chophouse menu for $19.68 until 10 p.m.
X-ALT-DESC;FMTTYPE=text/html:We&#39\;re throwing one heck of a party as Bunker Hills Golf Club (Coon Rapids\, MN) celebrates 50 years.<br />\n<br />\nJoin us July 8 from 12-6 for live music\, complimentary golf instruction for the whole family from Golftec\, happy hour specials starting at 11 a.m. and much much more (including cake!)<br />\n<br />\nAnd a special 3-course Kendall&#39\;s Tavern &amp\; Chophouse menu for $19.68 until 10 p.m.
LOCATION:
UID:e.380.185713
SEQUENCE:3
DTSTAMP:20260420T182951Z
URL:http://members.metronorthchamber.org/events/details/50th-anniversary-party-at-bunker-hills-golf-club-185713
END:VEVENT

END:VCALENDAR
