BEGIN:VCALENDAR
VERSION:2.0
PRODID:-//ChamberMaster//Event Calendar 2.0//EN
METHOD:PUBLISH
X-PUBLISHED-TTL:P3D
REFRESH-INTERVAL:P3D
CALSCALE:GREGORIAN
BEGIN:VEVENT
DTSTART:20150917T200000Z
DTEND:20150918T000000Z
X-MICROSOFT-CDO-ALLDAYEVENT:FALSE
SUMMARY:50th Anniversary Celebration A Campus Showcase
DESCRIPTION:We invite you to take a guided or self-guided tour of the campus to enjoy new/updated facilities\, student and academic-area demonstrations/exhibits\, music performances\, historic memorabilia and refreshments along the way.\n\n\n\nThursday September 17\n\n3:00-7:00 p.m.\n\nProgram begins at 4:30 p.m.
X-ALT-DESC;FMTTYPE=text/html:We invite you to take a guided or self-guided tour of the campus to enjoy new/updated facilities\, student and academic-area demonstrations/exhibits\, music performances\, historic memorabilia and refreshments along the way.<br />\n<br />\nThursday September 17<br />\n3:00-7:00 p.m.<br />\nProgram begins at 4:30 p.m.
LOCATION:Coon Rapids Campus 11200 Mississippi Blvd NW\, Coon Rapids\, MN 55433-3470
UID:e.380.159555
SEQUENCE:3
DTSTAMP:20260423T025910Z
URL:http://members.metronorthchamber.org/events/details/50th-anniversary-celebration-a-campus-showcase-09-17-2015-159555
END:VEVENT

END:VCALENDAR
