BEGIN:VCALENDAR
VERSION:2.0
PRODID:-//ChamberMaster//Event Calendar 2.0//EN
METHOD:PUBLISH
X-PUBLISHED-TTL:P3D
REFRESH-INTERVAL:P3D
CALSCALE:GREGORIAN
BEGIN:VEVENT
DTSTART:20180612T223000Z
DTEND:20180612T230000Z
X-MICROSOFT-CDO-ALLDAYEVENT:FALSE
SUMMARY:5 Summer Weight Loss Tips to Blow Your Mind!
DESCRIPTION:5 Summer Weight Loss Tips to Blow Your Mind!
X-ALT-DESC;FMTTYPE=text/html:&nbsp\;5 Summer Weight Loss Tips to Blow Your Mind!
LOCATION:Anytime Fitness 1460 - 133rd Lane NE Ham Lake
UID:e.380.185401
SEQUENCE:3
DTSTAMP:20260420T200303Z
URL:http://members.metronorthchamber.org/events/details/5-summer-weight-loss-tips-to-blow-your-mind-185401
END:VEVENT

END:VCALENDAR
