BEGIN:VCALENDAR
VERSION:2.0
PRODID:-//ChamberMaster//Event Calendar 2.0//EN
METHOD:PUBLISH
X-PUBLISHED-TTL:P3D
REFRESH-INTERVAL:P3D
CALSCALE:GREGORIAN
BEGIN:VEVENT
DTSTART;VALUE=DATE:20160704
DTEND;VALUE=DATE:20160705
TRANSP:TRANSPARENT
X-MICROSOFT-CDO-ALLDAYEVENT:TRUE
SUMMARY:$5 Premium Margarita's
DESCRIPTION:COME TO CHILI'S AT 1430 109TH AVE NE TO CURE YOUR MONDAY BACK TO WORK BLUES OR ANY OTHER REASON.  WITH $5 SELECT PREMIUM MARGARITA'S\,   MARGARITA MONDAYS ARE BACK.  11AM TO 10 PM ALL SUMMER LONG
X-ALT-DESC;FMTTYPE=text/html:COME TO CHILI&#39\;S AT 1430 109TH AVE NE TO CURE YOUR MONDAY BACK TO WORK BLUES OR ANY OTHER REASON. &nbsp\;WITH $5 SELECT PREMIUM MARGARITA&#39\;S\, &nbsp\; MARGARITA MONDAYS ARE BACK. &nbsp\;11AM TO 10 PM ALL SUMMER LONG&nbsp\;<br />\n<br />\n&nbsp\;
LOCATION:CHILI'S 1430 109TH AVE NE BLAINE MN 55449 763-783-9222
UID:e.380.168652
SEQUENCE:3
DTSTAMP:20260422T084755Z
URL:http://members.metronorthchamber.org/events/details/5-premium-margarita-s-07-04-2016-168652
END:VEVENT

END:VCALENDAR
