BEGIN:VCALENDAR
VERSION:2.0
PRODID:-//ChamberMaster//Event Calendar 2.0//EN
METHOD:PUBLISH
X-PUBLISHED-TTL:P3D
REFRESH-INTERVAL:P3D
CALSCALE:GREGORIAN
BEGIN:VEVENT
DTSTART:20130705T030000Z
DTEND:20130705T040000Z
X-MICROSOFT-CDO-ALLDAYEVENT:FALSE
SUMMARY:4th of July Fireworks Extravaganza
DESCRIPTION:Join us for the Fireworks Extravaganza at the National Sports Center on Thursday\, July 4th at 10 p.m. (Dusk)!
X-ALT-DESC;FMTTYPE=text/html:<br />\n<span style="color:#000000\;"><span style="font-size: 11px\;"><span style="font-family: arial\;"><span style="font-size:12px\;">Join us for the Fireworks Extravaganza at the National Sports Center on Thursday\, July 4th at 10 p.m. (Dusk)</span></span></span></span><span style="font-size:12px\;">!</span>
LOCATION:National Sports Center 1700 105th Ave. NE\, Blaine
UID:e.380.148916
SEQUENCE:3
DTSTAMP:20260424T210714Z
URL:http://members.metronorthchamber.org/events/details/4th-of-july-fireworks-extravaganza-07-04-2013-148916
END:VEVENT

END:VCALENDAR
