BEGIN:VCALENDAR
VERSION:2.0
PRODID:-//ChamberMaster//Event Calendar 2.0//EN
METHOD:PUBLISH
X-PUBLISHED-TTL:P3D
REFRESH-INTERVAL:P3D
CALSCALE:GREGORIAN
BEGIN:VEVENT
DTSTART:20130426T200000Z
DTEND:20130427T000000Z
X-MICROSOFT-CDO-ALLDAYEVENT:FALSE
SUMMARY:4th Annual Spring Fling and Open House!!
DESCRIPTION:Spring is in the air at INI Bodywork & Wellness\n\n\n\nYou're Invited:  Friday\, April 23\, 2013\, 3:00 - 7:00 p.m.\n\n\n\nIt's our Annual Spring Fling!!  Come and celebrate with us 4 years of being in business.  Flowers\, shopping\, food and fun!  Bring your friends and enjoy the evening!\n\n\n\nHOPE FOR THE COMJUNITY.  For a donation\, enjoy right from the grill\, hot dogs and burgers with all the fixin's!  (Please bring a dish to share for the potluck!!)  All proceeds go to Kingswood Church HOPE FOR THE COMMUNITY!\n\n\n\nWe will be offering...\n\n    Facebook Photo Booth (brought to you by Maija Photography)\n\n    Warners' Stellean is partnering with INI Bodywork & Wellness to raffle off a grill to benefit HOPE FOR THE COMMUNITY\n\n    Great River Office Products is also partnering to raffle off a Keurig Coffee Machine\n\n    Trio Landscaping Ribbon Cutting @ 4:00 p.m. (brought to you by the MetroNorth Chamber\n\n    Plus...Come and see what's new this spring in Health & Wellness\n\n\n\nOur Sponsors include...\n\n    Warners' Stellian\, Trio Landscaping\, Great River Office Products\, Palm Tree Candle Company\, Send-Out Cards\, Build & Balance Chiropractic\, Arbonne\, Norwex\,         OxyMagic Carpet Cleaning\, Juice Plus\, Fitness Lounge\, Maija Photography\, Premier Specialties\, Griffin Jerke Personal Trainer\, Rhythm of Life Animal Chiropractic\,     Red Hen Greeting Cards\, Bugaloo\, 32 Threads\, Peggy Jean Designs\, and more!!
X-ALT-DESC;FMTTYPE=text/html:<span style="color: #00ffff"><span style="font-family: comic sans ms"><span style="font-size: 24px">Spring</span></span> is in the air at</span><span style="font-size: 22px"><span style="color: rgb(255\,140\,0)"> <span style="font-family: comic sans ms">INI Bodywork &amp\; Wellness</span></span></span><br />\n<br />\n<span style="font-size: 16px">You&#39\;re Invited:&nbsp\; Friday\, April 23\, 2013\, 3:00 - 7:00 p.m.</span><br />\n<br />\nIt&#39\;s our Annual Spring Fling!!&nbsp\; Come and celebrate with us 4 years of being in business.&nbsp\; Flowers\, shopping\, food and fun!&nbsp\; Bring your friends and enjoy the evening!<br />\n<br />\nHOPE FOR THE COMJUNITY.&nbsp\; For a donation\, enjoy right from the grill\, hot dogs and burgers with all the fixin&#39\;s!&nbsp\; <span style="background-color: #ffa500">(Please bring a dish to share for the potluck!!)</span>&nbsp\; All proceeds go to Kingswood Church HOPE FOR THE COMMUNITY!<br />\n<br />\n<strong>We will be offering...</strong><br />\n&nbsp\;&nbsp\;&nbsp\; Facebook Photo Booth (brought to you by Maija Photography)<br />\n&nbsp\;&nbsp\;&nbsp\; Warners&#39\; Stellean is partnering with INI Bodywork &amp\; Wellness to raffle off a grill to benefit HOPE FOR THE COMMUNITY<br />\n&nbsp\;&nbsp\;&nbsp\; Great River Office Products is also partnering to raffle off a Keurig Coffee Machine<br />\n&nbsp\;&nbsp\;&nbsp\; Trio Landscaping Ribbon Cutting @ 4:00 p.m. (brought to you by the MetroNorth Chamber<br />\n&nbsp\;&nbsp\;&nbsp\; Plus...Come and see what&#39\;s new this spring in Health &amp\; Wellness<br />\n<br />\n<strong>Our Sponsors include...</strong><br />\n&nbsp\;&nbsp\;&nbsp\; Warners&#39\; Stellian\, Trio Landscaping\, Great River Office Products\, Palm Tree Candle Company\, Send-Out Cards\, Build &amp\; Balance Chiropractic\, Arbonne\, Norwex\, &nbsp\;&nbsp\;&nbsp\; &nbsp\;&nbsp\;&nbsp\; OxyMagic Carpet Cleaning\, Juice Plus\, Fitness Lounge\, Maija Photography\, Premier Specialties\, Griffin Jerke Personal Trainer\, Rhythm of Life Animal Chiropractic\, &nbsp\;&nbsp\;&nbsp\; Red Hen Greeting Cards\, Bugaloo\, 32 Threads\, Peggy Jean Designs\, and more!!
LOCATION:1061 109th Avenue NE Blaine\, MN 55434
UID:e.380.148906
SEQUENCE:3
DTSTAMP:20260425T002241Z
URL:http://members.metronorthchamber.org/events/details/4th-annual-spring-fling-and-open-house-04-26-2013-148906
END:VEVENT

END:VCALENDAR
