BEGIN:VCALENDAR
VERSION:2.0
PRODID:-//ChamberMaster//Event Calendar 2.0//EN
METHOD:PUBLISH
X-PUBLISHED-TTL:P3D
REFRESH-INTERVAL:P3D
CALSCALE:GREGORIAN
BEGIN:VEVENT
DTSTART:20170717T220000Z
DTEND:20170718T003000Z
X-MICROSOFT-CDO-ALLDAYEVENT:FALSE
SUMMARY:3rd Annual Rise's Tapping Into Possibilities "Friend Raiser"
DESCRIPTION:Make friends and raise funds to support people with disabilities and other barriers in their pursuit of employment and self-enrichment.
X-ALT-DESC;FMTTYPE=text/html:<span style="font-family:arial\,sans-serif"><span style="font-size:10.0pt">Make friends and raise funds to support people with disabilities and other barriers in their pursuit of employment and self-enrichment.</span></span>
LOCATION:Bauhau Brew Labs 1315 Tyler St.\, N.E. Minneapolis
UID:e.380.175062
SEQUENCE:3
DTSTAMP:20260421T121424Z
URL:http://members.metronorthchamber.org/events/details/3rd-annual-rise-s-tapping-into-possibilities-friend-raiser-175062
END:VEVENT

END:VCALENDAR
