BEGIN:VCALENDAR
VERSION:2.0
PRODID:-//ChamberMaster//Event Calendar 2.0//EN
METHOD:PUBLISH
X-PUBLISHED-TTL:P3D
REFRESH-INTERVAL:P3D
CALSCALE:GREGORIAN
BEGIN:VEVENT
DTSTART:20180521T223000Z
DTEND:20180522T013000Z
X-MICROSOFT-CDO-ALLDAYEVENT:FALSE
SUMMARY:3rd Annual Fit2Fight 5K
DESCRIPTION:3rd Annual Fit2Fight 5K Fun Run\n\nRegister under your favorite firefighter's department!\n\nTrophy to the fire station with the highest attendance!
X-ALT-DESC;FMTTYPE=text/html:<span style="font-size:16px\;"><strong>3rd Annual Fit2Fight 5K Fun Run</strong></span><br />\nRegister under your favorite firefighter&rsquo\;s department!<br />\nTrophy to the fire station with the highest attendance!
LOCATION:SBM Fire Station #3 11920 Ulysses St NE Blaine\, MN 55434
UID:e.380.184813
SEQUENCE:3
DTSTAMP:20260420T212708Z
URL:http://members.metronorthchamber.org/events/details/3rd-annual-fit2fight-5k-184813
END:VEVENT

END:VCALENDAR
