BEGIN:VCALENDAR
VERSION:2.0
PRODID:-//ChamberMaster//Event Calendar 2.0//EN
METHOD:PUBLISH
X-PUBLISHED-TTL:P3D
REFRESH-INTERVAL:P3D
CALSCALE:GREGORIAN
BEGIN:VEVENT
DTSTART:20170527T170000Z
DTEND:20170528T050000Z
X-MICROSOFT-CDO-ALLDAYEVENT:FALSE
SUMMARY:3rd Annual Bayou & Beer-Craw Fish Boil
DESCRIPTION:Tent Event rain or shine \nNew for 2017: 6 Beer Stations & Food Stations\nClassic & Cajun Inspired Cocktails\n\nOpen to all ages\, but must be 21+ to drink\nCrawfish/Corn/Taters\n\nChicken & Sausage\n\nJambalaya
X-ALT-DESC;FMTTYPE=text/html:<u>Tent Event rain or shine</u>&nbsp\;\n<div style="text-align:right"><u>New for 2017:&nbsp\;</u><em><strong>6 Beer Stations &amp\; Food&nbsp\;Stations</strong></em></div>\n<u>Classic &amp\; Cajun Inspired Cocktails</u>\n\n<div style="text-align:right"><u>Open to all ages\, but must be 21+ to drink</u></div>\n<u>Crawfish/Corn/Taters<br />\nChicken &amp\; Sausage<br />\nJambalaya</u>
LOCATION:Bent Brewstillery Taproom 1744 Terrace Drive Roseville\, MN 55113
UID:e.380.175029
SEQUENCE:3
DTSTAMP:20260421T152732Z
URL:http://members.metronorthchamber.org/events/details/3rd-annual-bayou-beer-craw-fish-boil-175029
END:VEVENT

END:VCALENDAR
